BEGIN:VCALENDAR
VERSION:2.0
PRODID:-//217.160.0.125//NONSGML kigkonsult.se iCalcreator 2.20//
CALSCALE:GREGORIAN
METHOD:PUBLISH
X-WR-TIMEZONE:Europe/Berlin
BEGIN:VEVENT
UID:event2840@Volvo Club Deutschland e. V. - Der Club für alle Volvos!
DTSTAMP:20260422T090909Z
CATEGORIES:Stammtisch
DESCRIPTION:Volvo Stammtisch Ostwestfalen\nCategory: Stammtisch\nLink: http
 s://www.volvoclub-deutschland.de/index.php?option=com_jem&view=event&id=28
 40:volvo-stammtisch-ostwestfalen\n
DTSTART;TZID=Europe/Berlin:20260402T190000
DTEND;TZID=Europe/Berlin:20260402T190000
LOCATION:Gasthof 'Friedrichshöhe'\,Kaistraße 48\,33803 Steinhagen
SUMMARY:Volvo Stammtisch Ostwestfalen
URL:https://www.volvoclub-deutschland.de/index.php?option=com_jem&view=even
 t&id=2840:volvo-stammtisch-ostwestfalen
END:VEVENT
END:VCALENDAR
