BEGIN:VCALENDAR
VERSION:2.0
PRODID:-//217.160.0.125//NONSGML kigkonsult.se iCalcreator 2.20//
CALSCALE:GREGORIAN
METHOD:PUBLISH
X-WR-TIMEZONE:Europe/Berlin
BEGIN:VEVENT
UID:event5@Volvo Club Deutschland e. V. - Der Club für alle Volvos!
DTSTAMP:20260422T063455Z
CATEGORIES:Messe
DESCRIPTION:Veterama Hockenheim 2025\nCategory: Messe\nLink: https://www.vo
 lvoclub-deutschland.de/index.php?option=com_jem&view=event&id=5:veterama-h
 ockenheim\n
DTSTART;VALUE=DATE:20260424
DTEND;VALUE=DATE:20260427
LOCATION:Hockenheimring\,Am Hockenheimring\,68766 Hockenheim\,Germany
SUMMARY:Veterama Hockenheim 2025
URL:https://www.volvoclub-deutschland.de/index.php?option=com_jem&view=even
 t&id=5:veterama-hockenheim
END:VEVENT
BEGIN:VEVENT
UID:event9@Volvo Club Deutschland e. V. - Der Club für alle Volvos!
DTSTAMP:20260422T063455Z
CATEGORIES:Messe
DESCRIPTION:Technorama Ulm 2025\nCategory: Messe\nLink: https://www.volvocl
 ub-deutschland.de/index.php?option=com_jem&view=event&id=9:technorama-ulm
 \n
DTSTART;VALUE=DATE:20260502
DTEND;VALUE=DATE:20260504
LOCATION:Messegelände Ulm\,Böfinger Str. 50\,89073 Ulm\,Germany
SUMMARY:Technorama Ulm 2025
URL:https://www.volvoclub-deutschland.de/index.php?option=com_jem&view=even
 t&id=9:technorama-ulm
END:VEVENT
BEGIN:VEVENT
UID:event22@Volvo Club Deutschland e. V. - Der Club für alle Volvos!
DTSTAMP:20260422T063455Z
CATEGORIES:Messe
DESCRIPTION:Technorama Hildesheim 2025\nCategory: Messe\nLink: https://www.
 volvoclub-deutschland.de/index.php?option=com_jem&view=event&id=22:technor
 ama-hildesheim\n
DTSTART;VALUE=DATE:20260530
DTEND;VALUE=DATE:20260601
LOCATION:Messe Hildesheim\,Am Flugplatz 26\,31137 Hildesheim\,Germany
SUMMARY:Technorama Hildesheim 2025
URL:https://www.volvoclub-deutschland.de/index.php?option=com_jem&view=even
 t&id=22:technorama-hildesheim
END:VEVENT
BEGIN:VEVENT
UID:event2@Volvo Club Deutschland e. V. - Der Club für alle Volvos!
DTSTAMP:20260422T063455Z
CATEGORIES:Messe
DESCRIPTION:Techno-Classica Essen 2026\nCategory: Messe\nLink: https://www.
 volvoclub-deutschland.de/index.php?option=com_jem&view=event&id=2:techno-c
 lassica-essen\n
DTSTART;VALUE=DATE:20260924
DTEND;VALUE=DATE:20260928
LOCATION:Messe Essen\,Norbertstraße\,45131 Essen\,Germany
SUMMARY:Techno-Classica Essen 2026
URL:https://www.volvoclub-deutschland.de/index.php?option=com_jem&view=even
 t&id=2:techno-classica-essen
END:VEVENT
BEGIN:VEVENT
UID:event23@Volvo Club Deutschland e. V. - Der Club für alle Volvos!
DTSTAMP:20260422T063455Z
CATEGORIES:Messe
DESCRIPTION:Veterama Mannheim 2025\nCategory: Messe\nLink: https://www.volv
 oclub-deutschland.de/index.php?option=com_jem&view=event&id=23:veterama-ma
 nnheim\n
DTSTART;VALUE=DATE:20261009
DTEND;VALUE=DATE:20261012
LOCATION:Maimarktgelände Mannheim\,Xaver-Fuhr-Str. 101\,68163 Mannheim\,Ger
 many
SUMMARY:Veterama Mannheim 2025
URL:https://www.volvoclub-deutschland.de/index.php?option=com_jem&view=even
 t&id=23:veterama-mannheim
END:VEVENT
BEGIN:VEVENT
UID:event283@Volvo Club Deutschland e. V. - Der Club für alle Volvos!
DTSTAMP:20260422T063455Z
CATEGORIES:Messe
DESCRIPTION:Retro Classics Bavaria 2026\nCategory: Messe\nLink: https://www
 .volvoclub-deutschland.de/index.php?option=com_jem&view=event&id=283:retro
 -classics-bavaria\n
DTSTART;VALUE=DATE:20261106
DTEND;VALUE=DATE:20261109
LOCATION:Messe Nürnberg\,Messezentrum 1\,90471 Nürnberg\,Germany
SUMMARY:Retro Classics Bavaria 2026
URL:https://www.volvoclub-deutschland.de/index.php?option=com_jem&view=even
 t&id=283:retro-classics-bavaria
END:VEVENT
BEGIN:VEVENT
UID:event29@Volvo Club Deutschland e. V. - Der Club für alle Volvos!
DTSTAMP:20260422T063455Z
CATEGORIES:Messe
DESCRIPTION:Essen Motorshow 2026\nCategory: Messe\nLink: https://www.volvoc
 lub-deutschland.de/index.php?option=com_jem&view=event&id=29:essen-motorsh
 ow\n
DTSTART;VALUE=DATE:20261128
DTEND;VALUE=DATE:20261207
LOCATION:Messe Essen\,Norbertstraße\,45131 Essen\,Germany
SUMMARY:Essen Motorshow 2026
URL:https://www.volvoclub-deutschland.de/index.php?option=com_jem&view=even
 t&id=29:essen-motorshow
END:VEVENT
END:VCALENDAR
